BEGIN:VCALENDAR
VERSION:2.0
PRODID:-//wp-events-plugin.com//7.2.3.1//EN
TZID:America/Chicago
X-WR-TIMEZONE:America/Chicago
BEGIN:VEVENT
UID:625@amyisrael.org
DTSTART;TZID=America/Chicago;VALUE=DATE:20260423
DTEND;TZID=America/Chicago;VALUE=DATE:20260526
DTSTAMP:20260423T190945Z
URL:https://www.amyisrael.org/events/am-yisraels-2026-annual-meeting-and-e
 lections/
SUMMARY:Am Yisrael's 2026 Annual Meeting and Elections
DESCRIPTION:[gravityform id="75" title="true" description="true"]\n\n
ATTACH;FMTTYPE=image/jpeg:https://www.amyisrael.org/wp-content/uploads/202
 6/04/annual-meeting-2026-v3.png
CATEGORIES:Featured
END:VEVENT
BEGIN:VTIMEZONE
TZID:America/Chicago
X-LIC-LOCATION:America/Chicago
BEGIN:DAYLIGHT
DTSTART:20260308T030000
TZOFFSETFROM:-0600
TZOFFSETTO:-0500
TZNAME:CDT
END:DAYLIGHT
END:VTIMEZONE
END:VCALENDAR