BEGIN:VCALENDAR
VERSION:2.0
PRODID:-//wp-events-plugin.com//7.2.3.1//EN
TZID:America/Chicago
X-WR-TIMEZONE:America/Chicago
BEGIN:VEVENT
UID:219@amyisrael.org
DTSTART;TZID=America/Chicago:20220616T120000
DTEND;TZID=America/Chicago:20220616T120000
DTSTAMP:20210625T174558Z
URL:https://www.amyisrael.org/events/cantors-current-events-class-2022-06-
 16/
SUMMARY:Cantor’s Current Events Class
DESCRIPTION:Cantor Simon offers his weekly Current Events Class to the enti
 re congregation. Traditionally\, this group has enjoyed a little bit of ad
 ult beverage while solving the world’s problems. During the quarantine\,
  it’s BYO\, but by all means\, feel free to grab your favorite beverage 
 and join this lively group.
ATTACH;FMTTYPE=image/jpeg:https://www.amyisrael.org/wp-content/uploads/202
 1/06/cantor-stuart-simon.jpg
CATEGORIES:Adult Education
END:VEVENT
BEGIN:VTIMEZONE
TZID:America/Chicago
X-LIC-LOCATION:America/Chicago
BEGIN:DAYLIGHT
DTSTART:20220313T030000
TZOFFSETFROM:-0600
TZOFFSETTO:-0500
TZNAME:CDT
END:DAYLIGHT
END:VTIMEZONE
END:VCALENDAR