BEGIN:VCALENDAR
VERSION:2.0
PRODID:-//wp-events-plugin.com//7.2.3.1//EN
TZID:America/Chicago
X-WR-TIMEZONE:America/Chicago
BEGIN:VEVENT
UID:354@amyisrael.org
DTSTART;TZID=America/Chicago:20220515T193000
DTEND;TZID=America/Chicago:20220515T193000
DTSTAMP:20220508T220357Z
URL:https://www.amyisrael.org/events/jewish-views-on-abortion-rabbi-newman
 -kamin-via-zoom/
SUMMARY:Jewish Views on Abortion - Rabbi Newman Kamin - via zoom
DESCRIPTION:
ATTACH;FMTTYPE=image/jpeg:https://www.amyisrael.org/wp-content/uploads/202
 2/05/Jewish-and-American-laws.jpg
CATEGORIES:Adult Ed and Programs,Featured
END:VEVENT
BEGIN:VTIMEZONE
TZID:America/Chicago
X-LIC-LOCATION:America/Chicago
BEGIN:DAYLIGHT
DTSTART:20220313T030000
TZOFFSETFROM:-0600
TZOFFSETTO:-0500
TZNAME:CDT
END:DAYLIGHT
END:VTIMEZONE
END:VCALENDAR