BEGIN:VCALENDAR
VERSION:2.0
PRODID:-//wp-events-plugin.com//7.2.3.1//EN
TZID:America/Chicago
X-WR-TIMEZONE:America/Chicago
BEGIN:VEVENT
UID:629@amyisrael.org
DTSTART;TZID=America/Chicago:20260429T190000
DTEND;TZID=America/Chicago:20260429T200000
DTSTAMP:20260423T165012Z
URL:https://www.amyisrael.org/events/navigating-the-liturgy-bonus-event-vi
 a-zoom-with-rabbi-newman-kamin/
SUMMARY:Navigating the Liturgy: Bonus Event via Zoom with Rabbi Newman Kami
 n
DESCRIPTION:Click HERE to JOIN\n
ATTACH;FMTTYPE=image/jpeg:https://www.amyisrael.org/wp-content/uploads/202
 6/04/Navigating-the-Liturgy-v2-1.png
CATEGORIES:Featured
END:VEVENT
BEGIN:VTIMEZONE
TZID:America/Chicago
X-LIC-LOCATION:America/Chicago
BEGIN:DAYLIGHT
DTSTART:20260308T030000
TZOFFSETFROM:-0600
TZOFFSETTO:-0500
TZNAME:CDT
END:DAYLIGHT
END:VTIMEZONE
END:VCALENDAR