BEGIN:VCALENDAR
VERSION:2.0
PRODID:-//wp-events-plugin.com//7.2.3.1//EN
TZID:America/Chicago
X-WR-TIMEZONE:America/Chicago
BEGIN:VEVENT
UID:410@amyisrael.org
DTSTART;TZID=America/Chicago:20230521T000000
DTEND;TZID=America/Chicago:20230521T150000
DTSTAMP:20230521T194701Z
URL:https://www.amyisrael.org/events/silent-auction/
SUMMARY:Silent Auction All Items
DESCRIPTION:Click on the items below to learn more about them\, register an
 d place your bid. If you have trouble navigating or registering\, contact 
 our Executive Director\, Nancy Holab Nevins at nhnevins@amyisrael.org\n\n\
 n\nPlease note that you will be required to set up an account in order to 
 place a bid. This account is not the same as your Am Yisrael account.&nbsp
 \; It is specifically for this auction only and is not connected to your r
 egular Am Yisrael account.&nbsp\;\n\n\n\nhttps://www.amyisrael.org/product
 /white-sox-starz-package/\n\nhttps://www.amyisrael.org/product/memorial-da
 y-weekend-getaway-package-in-chicago/\n\nhttps://www.amyisrael.org/product
 /weekend-getaway-package-in-chicago/\n\n&nbsp\;\n\nhttps://www.amyisrael.o
 rg/product/weekend-getaway-in-michigan/\n\nhttps://www.amyisrael.org/produ
 ct/vip-tickets-2-to-the-hangar-for-the-nv5-golf-tournament-at-the-glen-clu
 b/\n\nhttps://www.amyisrael.org/product/an-evening-with-the-kamins-2/\n\nh
 ttps://www.amyisrael.org/product/adon-olam-with-cantor-simon-5/\n\nhttps:/
 /www.amyisrael.org/product/adon-olam-with-cantor-simon-4/\n\nhttps://www.a
 myisrael.org/product/adon-olam-with-cantor-simon-3/\n\nhttps://www.amyisra
 el.org/product/adon-olam-with-cantor-simon-2/\n\nhttps://www.amyisrael.org
 /product/adon-olam-with-cantor-simon/\n\nhttps://www.amyisrael.org/product
 /charlie-sherman-lead-the-second-seder-in-your-home/\n\n&nbsp\;\n\nhttps:/
 /www.amyisrael.org/product/amazing-buy-it-now-donation-to-sjs-for-36-2/\n\
 nhttps://www.amyisrael.org/product/high-holiday-valet-parking/\n\nhttps://
 www.amyisrael.org/product/amazing-buy-it-now-donation-to-sjs-for-36-2/\n\n
 https://www.amyisrael.org/product/baby-stuff/\n\nhttps://www.amyisrael.org
 /product/childrens-art-activity-with-sheila-serota/\n\nhttps://www.amyisra
 el.org/product/kohl-childrens-museum-family-admission-pass-for-up-to-4-peo
 ple/\n\nhttps://www.amyisrael.org/product/lunch-with-sportswriter-jon-gree
 nberg-and-a-copy-of-his-latest-book/\n\nhttps://www.amyisrael.org/product/
 cubs-tickets-4-and-parking/\n\nhttps://www.amyisrael.org/product/cubs-tick
 ets-4-vs-arizona-diamondbacks/\n\nhttps://www.amyisrael.org/product/white-
 sox-tickets-4-to-game-of-your-choice/\n\nhttps://www.amyisrael.org/product
 /cubs-tickets-2/\n\nhttps://www.amyisrael.org/product/pat-hughes-autograph
 ed-game-7-world-series-scorecard/\n\nhttps://www.amyisrael.org/product/whi
 te-sox-tickets-2-wed-may-31-vs-angels/\n\nhttps://www.amyisrael.org/produc
 t/northlight-theatre-tickets-2/\n\nhttps://www.amyisrael.org/product/compa
 ny-tickets-2/\n\nhttps://www.amyisrael.org/product/lyric-opera-of-chicago-
 two-tickets/\n\nhttps://www.amyisrael.org/product/belinda-carlisle-at-nort
 h-shore-center-for-the-performing-arts/\n\nhttps://www.amyisrael.org/produ
 ct/grant-park-music-festival-tickets-2/\n\nhttps://www.amyisrael.org/produ
 ct/koval-distillery-private-tour-tasting/\n\nhttps://www.amyisrael.org/pro
 duct/koval-distillery-tour-passes-4/\n\nhttps://www.amyisrael.org/product/
 artisnal-cupcakes-from-luxe-lilac/\n\nhttps://www.amyisrael.org/product/fi
 ne-wine-collection/\n\nhttps://www.amyisrael.org/product/shabbat-shalom-sh
 abbat-judaica-items/\n\nhttps://www.amyisrael.org/product/seder-plate/\n\n
 https://www.amyisrael.org/product/chanukiah-and-dreidel/\n\n&nbsp\;\n\nhtt
 ps://www.amyisrael.org/product/photography-by-lois-bernstein/\n\nhttps://w
 ww.amyisrael.org/product/kakadu-jerusalem-floor-mat/\n\nhttps://www.amyisr
 ael.org/product/candlelight-and-flowers/\n\nhttps://www.amyisrael.org/prod
 uct/sur-la-table-kitchen-towels/\n\nhttps://www.amyisrael.org/product/lali
 que-deux-fleurs-perfume-bottle/\n\nhttps://www.amyisrael.org/product/royal
 -worcester-plate-set-of-two/\n\nhttps://www.amyisrael.org/product/2281/\n\
 nhttps://www.amyisrael.org/product/german-pitcher-bembel-and-two-matching-
 glasses/\n\nhttps://www.amyisrael.org/product/chinese-letter-opener-and-ma
 gnifying-glass/\n\n&nbsp\;\n\nhttps://www.amyisrael.org/product/wedgewood-
 frog-service-plate/\n\nhttps://www.amyisrael.org/product/guitar-fundamenta
 ls-e-marc-nevins/\n\nhttps://www.amyisrael.org/product/gardening-with-marc
 ia-adelman/\n\nhttps://www.amyisrael.org/product/pet-sitting-in-a-private-
 home/\n\nhttps://www.amyisrael.org/product/learn-to-play-canasta/\n\nhttps
 ://www.amyisrael.org/product/hammered-dulcimer-concert-in-your-home/\n\nht
 tps://www.amyisrael.org/product/residential-real-estate-closing/\n\nhttps:
 //www.amyisrael.org/product/ballet-exercise-lesson-e-marc-nevins/\n\nhttps
 ://www.amyisrael.org/product/michele-v-wagner-photography-family-photo-ses
 sion/\n\nhttps://www.amyisrael.org/product/lovely-gold-necklace-copy/\n\n&
 nbsp\;\n\nhttps://www.amyisrael.org/product/gatorade-package/\n\nhttps://w
 ww.amyisrael.org/product/sports-items/\n\nhttps://www.amyisrael.org/produc
 t/large-electronics-clocks-magnifiers-binoculars/\n\n&nbsp\;\n\n&nbsp\;\n\
 n&nbsp\;\n\n&nbsp\;
ATTACH;FMTTYPE=image/jpeg:https://www.amyisrael.org/wp-content/uploads/202
 3/04/SilentAuctionBanner.jpg
END:VEVENT
BEGIN:VTIMEZONE
TZID:America/Chicago
X-LIC-LOCATION:America/Chicago
BEGIN:DAYLIGHT
DTSTART:20230312T030000
TZOFFSETFROM:-0600
TZOFFSETTO:-0500
TZNAME:CDT
END:DAYLIGHT
END:VTIMEZONE
END:VCALENDAR