BEGIN:VCALENDAR
VERSION:2.0
PRODID:-//wp-events-plugin.com//7.2.3.1//EN
TZID:America/Chicago
X-WR-TIMEZONE:America/Chicago
BEGIN:VEVENT
UID:485@amyisrael.org
DTSTART;TZID=America/Chicago;VALUE=DATE:20241119
DTEND;TZID=America/Chicago;VALUE=DATE:20241122
DTSTAMP:20241120T022147Z
URL:https://www.amyisrael.org/events/womens-network-olive-oil-sale/
SUMMARY:Women's Network Olive Oil Sale
DESCRIPTION:
ATTACH;FMTTYPE=image/jpeg:https://www.amyisrael.org/wp-content/uploads/202
 4/11/WNAY-group-of-3.jpeg
CATEGORIES:Community,Featured,Women's Network
END:VEVENT
BEGIN:VTIMEZONE
TZID:America/Chicago
X-LIC-LOCATION:America/Chicago
BEGIN:STANDARD
DTSTART:20241103T010000
TZOFFSETFROM:-0500
TZOFFSETTO:-0600
TZNAME:CST
END:STANDARD
END:VTIMEZONE
END:VCALENDAR